BEGIN:VCALENDAR
VERSION:2.0
PRODID:-//wp-events-plugin.com//7.2.3.1//EN
TZID:Europe/Berlin
X-WR-TIMEZONE:Europe/Berlin
BEGIN:VEVENT
UID:27@der-ent-wickler.com
DTSTART;TZID=Europe/Berlin:20250913T090000
DTEND;TZID=Europe/Berlin:20250914T180000
DTSTAMP:20250506T084330Z
URL:https://der-ent-wickler.com/events/verzeihen-und-vergeben-lernen-inten
 sivseminar/
SUMMARY:Verzeihen und Vergeben lernen - Intensivseminar
DESCRIPTION:Verzeihen und Vergeben lernen - Intensivseminar - Nutze die kra
 ftvolle Energie der Vergebung
ATTACH;FMTTYPE=image/jpeg:https://der-ent-wickler.com/wp-content/uploads/2
 025/03/buddhist-5843719_1280.jpg
CATEGORIES:Wochenendseminar
LOCATION:Restaurant Platzhirsch\, Feursstraße 89\, Olching\, Bayern\, 8214
 0 \, Deutschland
X-APPLE-STRUCTURED-LOCATION;VALUE=URI;X-ADDRESS=Feursstraße 89\, Olching\,
  Bayern\, 82140 \, Deutschland;X-APPLE-RADIUS=100;X-TITLE=Restaurant Platz
 hirsch:geo:0,0
END:VEVENT
BEGIN:VTIMEZONE
TZID:Europe/Berlin
X-LIC-LOCATION:Europe/Berlin
BEGIN:DAYLIGHT
DTSTART:20250330T030000
TZOFFSETFROM:+0100
TZOFFSETTO:+0200
TZNAME:CEST
END:DAYLIGHT
END:VTIMEZONE
END:VCALENDAR