BEGIN:VCALENDAR
VERSION:2.0
PRODID:-//wp-events-plugin.com//7.2.3.1//EN
TZID:Europe/Berlin
X-WR-TIMEZONE:Europe/Berlin
BEGIN:VEVENT
UID:14@der-ent-wickler.com
DTSTART;TZID=Europe/Berlin:20250714T190000
DTEND;TZID=Europe/Berlin:20250714T210000
DTSTAMP:20250506T083958Z
URL:https://der-ent-wickler.com/events/single-sein-aber-nicht-bleiben-virt
 uelles-seminar/
SUMMARY:Single sein – aber nicht bleiben - Virtuelles Seminar
DESCRIPTION:Single sein – aber nicht bleiben - Vom einsamen Single zur er
 füllten Partnerschaft - Virtuelles Seminar
ATTACH;FMTTYPE=image/jpeg:https://der-ent-wickler.com/wp-content/uploads/2
 025/03/valentines-day-background-1777859_1280.jpg
END:VEVENT
BEGIN:VTIMEZONE
TZID:Europe/Berlin
X-LIC-LOCATION:Europe/Berlin
BEGIN:DAYLIGHT
DTSTART:20250330T030000
TZOFFSETFROM:+0100
TZOFFSETTO:+0200
TZNAME:CEST
END:DAYLIGHT
END:VTIMEZONE
END:VCALENDAR