BEGIN:VCALENDAR
VERSION:2.0
PRODID:-//wp-events-plugin.com//7.2.3.1//EN
TZID:Europe/Berlin
X-WR-TIMEZONE:Europe/Berlin
BEGIN:VEVENT
UID:26@der-ent-wickler.com
DTSTART;TZID=Europe/Berlin:20250809T090000
DTEND;TZID=Europe/Berlin:20250810T180000
DTSTAMP:20250506T084311Z
URL:https://der-ent-wickler.com/events/single-sein-aber-nicht-bleiben-inte
 nsivseminar/
SUMMARY:Single sein – aber nicht bleiben - Intensivseminar
DESCRIPTION:Single sein – aber nicht bleiben - Intensivseminar - Vom eins
 amen Single zur erfüllten Partnerschaft
ATTACH;FMTTYPE=image/jpeg:https://der-ent-wickler.com/wp-content/uploads/2
 025/03/valentines-day-background-1777859_1280.jpg
CATEGORIES:Wochenendseminar
LOCATION:Restaurant Platzhirsch\, Feursstraße 89\, Olching\, Bayern\, 8214
 0 \, Deutschland
X-APPLE-STRUCTURED-LOCATION;VALUE=URI;X-ADDRESS=Feursstraße 89\, Olching\,
  Bayern\, 82140 \, Deutschland;X-APPLE-RADIUS=100;X-TITLE=Restaurant Platz
 hirsch:geo:0,0
END:VEVENT
BEGIN:VTIMEZONE
TZID:Europe/Berlin
X-LIC-LOCATION:Europe/Berlin
BEGIN:DAYLIGHT
DTSTART:20250330T030000
TZOFFSETFROM:+0100
TZOFFSETTO:+0200
TZNAME:CEST
END:DAYLIGHT
END:VTIMEZONE
END:VCALENDAR