BEGIN:VCALENDAR
VERSION:2.0
PRODID:-//wp-events-plugin.com//7.2.3.1//EN
TZID:Europe/Berlin
X-WR-TIMEZONE:Europe/Berlin
BEGIN:VEVENT
UID:13@der-ent-wickler.com
DTSTART;TZID=Europe/Berlin:20250602T190000
DTEND;TZID=Europe/Berlin:20250602T210000
DTSTAMP:20250506T083935Z
URL:https://der-ent-wickler.com/events/selbstliebe-vs-egoismus-virtuelles-
 seminar/
SUMMARY:Selbstliebe vs. Egoismus - Virtuelles Seminar
DESCRIPTION:Selbstliebe vs. Egoismus - Welche Einstellung zu Dir selbst unt
 erstützt Deine Ziele optimal? - Virtuelles Seminar
ATTACH;FMTTYPE=image/jpeg:https://der-ent-wickler.com/wp-content/uploads/2
 025/03/woman-8683037_640.png
END:VEVENT
BEGIN:VTIMEZONE
TZID:Europe/Berlin
X-LIC-LOCATION:Europe/Berlin
BEGIN:DAYLIGHT
DTSTART:20250330T030000
TZOFFSETFROM:+0100
TZOFFSETTO:+0200
TZNAME:CEST
END:DAYLIGHT
END:VTIMEZONE
END:VCALENDAR