BEGIN:VCALENDAR
VERSION:2.0
PRODID:-//wp-events-plugin.com//7.2.3.1//EN
TZID:Europe/Berlin
X-WR-TIMEZONE:Europe/Berlin
BEGIN:VEVENT
UID:12@der-ent-wickler.com
DTSTART;TZID=Europe/Berlin:20250505T190000
DTEND;TZID=Europe/Berlin:20250505T210000
DTSTAMP:20250425T092537Z
URL:https://der-ent-wickler.com/events/manipulation-im-alltag-virtuelles-s
 eminar/
SUMMARY:Manipulation im Alltag - Virtuelles Seminar
DESCRIPTION:Manipulation im Alltag - Wie Du Dich selbst schützt und Du wir
 klich bekommst\, was Du möchtest.
ATTACH;FMTTYPE=image/jpeg:https://der-ent-wickler.com/wp-content/uploads/2
 025/03/ai-generated-9008297_640.jpg
END:VEVENT
BEGIN:VTIMEZONE
TZID:Europe/Berlin
X-LIC-LOCATION:Europe/Berlin
BEGIN:DAYLIGHT
DTSTART:20250330T030000
TZOFFSETFROM:+0100
TZOFFSETTO:+0200
TZNAME:CEST
END:DAYLIGHT
END:VTIMEZONE
END:VCALENDAR