BEGIN:VCALENDAR
VERSION:2.0
PRODID:-//wp-events-plugin.com//7.2.3.1//EN
TZID:Europe/Berlin
X-WR-TIMEZONE:Europe/Berlin
BEGIN:VEVENT
UID:11@der-ent-wickler.com
DTSTART;TZID=Europe/Berlin:20251202T180000
DTEND;TZID=Europe/Berlin:20251202T220000
DTSTAMP:20250526T141422Z
URL:https://der-ent-wickler.com/events/eigene-grenzen-erkennen-und-setzen/
SUMMARY:Eigene Grenzen (er)kennen und setzen
DESCRIPTION:Eigene Grenzen (er)kennen und setzen - Wer schützt Dich\, wenn
  Du es nicht tust?
ATTACH;FMTTYPE=image/jpeg:https://der-ent-wickler.com/wp-content/uploads/2
 025/03/dominoes-665547_640.jpg
LOCATION:Physiotherapie Silvia Nicole Sack\, Gutenbergstraße 11\, Freising
 \, Bayern\, 85354\, Deutschland
X-APPLE-STRUCTURED-LOCATION;VALUE=URI;X-ADDRESS=Gutenbergstraße 11\, Freis
 ing\, Bayern\, 85354\, Deutschland;X-APPLE-RADIUS=100;X-TITLE=Physiotherap
 ie Silvia Nicole Sack:geo:0,0
END:VEVENT
BEGIN:VTIMEZONE
TZID:Europe/Berlin
X-LIC-LOCATION:Europe/Berlin
BEGIN:STANDARD
DTSTART:20251026T020000
TZOFFSETFROM:+0200
TZOFFSETTO:+0100
TZNAME:CET
END:STANDARD
END:VTIMEZONE
END:VCALENDAR