BEGIN:VCALENDAR
VERSION:2.0
PRODID:-//wp-events-plugin.com//7.2.3.1//EN
TZID:Europe/Berlin
X-WR-TIMEZONE:Europe/Berlin
BEGIN:VEVENT
UID:19@der-ent-wickler.com
DTSTART;TZID=Europe/Berlin:20251201T190000
DTEND;TZID=Europe/Berlin:20251201T210000
DTSTAMP:20250506T084146Z
URL:https://der-ent-wickler.com/events/eigene-grenzen-erkennen-und-setzen-
 virtuelles-seminar/
SUMMARY:Eigene Grenzen (er)kennen und setzen - Virtuelles Seminar
DESCRIPTION:Eigene Grenzen (er)kennen und setzen - Wer schützt Dich\, wenn
  Du es nicht tust? - Virtuelles Seminar
ATTACH;FMTTYPE=image/jpeg:https://der-ent-wickler.com/wp-content/uploads/2
 025/03/dominoes-665547_640.jpg
END:VEVENT
BEGIN:VTIMEZONE
TZID:Europe/Berlin
X-LIC-LOCATION:Europe/Berlin
BEGIN:STANDARD
DTSTART:20251026T020000
TZOFFSETFROM:+0200
TZOFFSETTO:+0100
TZNAME:CET
END:STANDARD
END:VTIMEZONE
END:VCALENDAR