BEGIN:VCALENDAR
VERSION:2.0
PRODID:-//wp-events-plugin.com//7.2.3.1//EN
TZID:Europe/Berlin
X-WR-TIMEZONE:Europe/Berlin
BEGIN:VEVENT
UID:10@der-ent-wickler.com
DTSTART;TZID=Europe/Berlin:20251111T180000
DTEND;TZID=Europe/Berlin:20251111T220000
DTSTAMP:20250526T141405Z
URL:https://der-ent-wickler.com/events/ehrlichkeit-vs-aufrichtigkeit/
SUMMARY:Ehrlichkeit vs. Aufrichtigkeit
DESCRIPTION:Ehrlichkeit vs. Aufrichtigkeit - Sprechen oder Schweigen – is
 t nicht gelogen genug Wahrheit?
ATTACH;FMTTYPE=image/jpeg:https://der-ent-wickler.com/wp-content/uploads/2
 025/03/girl-4339816_1280.jpg
LOCATION:Physiotherapie Silvia Nicole Sack\, Gutenbergstraße 11\, Freising
 \, Bayern\, 85354\, Deutschland
X-APPLE-STRUCTURED-LOCATION;VALUE=URI;X-ADDRESS=Gutenbergstraße 11\, Freis
 ing\, Bayern\, 85354\, Deutschland;X-APPLE-RADIUS=100;X-TITLE=Physiotherap
 ie Silvia Nicole Sack:geo:0,0
END:VEVENT
BEGIN:VTIMEZONE
TZID:Europe/Berlin
X-LIC-LOCATION:Europe/Berlin
BEGIN:STANDARD
DTSTART:20251026T020000
TZOFFSETFROM:+0200
TZOFFSETTO:+0100
TZNAME:CET
END:STANDARD
END:VTIMEZONE
END:VCALENDAR