BEGIN:VCALENDAR
VERSION:2.0
PRODID:-//wp-events-plugin.com//7.2.3.1//EN
TZID:Europe/Berlin
X-WR-TIMEZONE:Europe/Berlin
BEGIN:VEVENT
UID:18@der-ent-wickler.com
DTSTART;TZID=Europe/Berlin:20251110T190000
DTEND;TZID=Europe/Berlin:20251110T210000
DTSTAMP:20250506T084111Z
URL:https://der-ent-wickler.com/events/ehrlichkeit-vs-aufrichtigkeit-virtu
 elles-seminar/
SUMMARY:Ehrlichkeit vs. Aufrichtigkeit - Virtuelles Seminar
DESCRIPTION:Ehrlichkeit vs. Aufrichtigkeit - Sprechen oder Schweigen – is
 t nicht gelogen genug Wahrheit? - Virtuelles Seminar
ATTACH;FMTTYPE=image/jpeg:https://der-ent-wickler.com/wp-content/uploads/2
 025/03/girl-4339816_1280.jpg
END:VEVENT
BEGIN:VTIMEZONE
TZID:Europe/Berlin
X-LIC-LOCATION:Europe/Berlin
BEGIN:STANDARD
DTSTART:20251026T020000
TZOFFSETFROM:+0200
TZOFFSETTO:+0100
TZNAME:CET
END:STANDARD
END:VTIMEZONE
END:VCALENDAR