BEGIN:VCALENDAR
VERSION:2.0
PRODID:-//wp-events-plugin.com//7.2.3.1//EN
TZID:Europe/Berlin
X-WR-TIMEZONE:Europe/Berlin
BEGIN:VEVENT
UID:51@der-ent-wickler.com
DTSTART;TZID=Europe/Berlin:20260129T183000
DTEND;TZID=Europe/Berlin:20260129T200000
DTSTAMP:20251221T171405Z
URL:https://der-ent-wickler.com/events/cool-bleiben-auch-wenn-es-heiss-her
 geht/
SUMMARY:Cool bleiben - auch wenn es heiß hergeht
DESCRIPTION:Ent-Wickler Lounge: Cool bleiben - auch wenn es heiß hergeht
ATTACH;FMTTYPE=image/jpeg:https://der-ent-wickler.com/wp-content/uploads/2
 025/11/4-ai-generated-9616696_1280.jpg
CATEGORIES:Ent-Wickler Lounge
LOCATION:https://meet.jit.si/EWL_290126_Cool
END:VEVENT
BEGIN:VTIMEZONE
TZID:Europe/Berlin
X-LIC-LOCATION:Europe/Berlin
BEGIN:STANDARD
DTSTART:20251026T020000
TZOFFSETFROM:+0200
TZOFFSETTO:+0100
TZNAME:CET
END:STANDARD
END:VTIMEZONE
END:VCALENDAR