BEGIN:VCALENDAR
VERSION:2.0
PRODID:-//wp-events-plugin.com//7.2.3.1//EN
TZID:Europe/Berlin
X-WR-TIMEZONE:Europe/Berlin
BEGIN:VEVENT
UID:9@der-ent-wickler.com
DTSTART;TZID=Europe/Berlin:20251007T180000
DTEND;TZID=Europe/Berlin:20251007T220000
DTSTAMP:20250526T141256Z
URL:https://der-ent-wickler.com/events/burnoutpraevention-entspannter-lebe
 n/
SUMMARY:Burnoutprävention – entspannter leben
DESCRIPTION:Burnoutprävention – entspannter leben - Ruhe im Moment\, gen
 ieße den Augenblick
ATTACH;FMTTYPE=image/jpeg:https://der-ent-wickler.com/wp-content/uploads/2
 025/03/young-woman-2194038_640.jpg
LOCATION:Physiotherapie Silvia Nicole Sack\, Gutenbergstraße 11\, Freising
 \, Bayern\, 85354\, Deutschland
X-APPLE-STRUCTURED-LOCATION;VALUE=URI;X-ADDRESS=Gutenbergstraße 11\, Freis
 ing\, Bayern\, 85354\, Deutschland;X-APPLE-RADIUS=100;X-TITLE=Physiotherap
 ie Silvia Nicole Sack:geo:0,0
END:VEVENT
BEGIN:VTIMEZONE
TZID:Europe/Berlin
X-LIC-LOCATION:Europe/Berlin
BEGIN:DAYLIGHT
DTSTART:20250330T030000
TZOFFSETFROM:+0100
TZOFFSETTO:+0200
TZNAME:CEST
END:DAYLIGHT
END:VTIMEZONE
END:VCALENDAR