BEGIN:VCALENDAR
VERSION:2.0
PRODID:-//wp-events-plugin.com//7.2.3.1//EN
TZID:Europe/Berlin
X-WR-TIMEZONE:Europe/Berlin
BEGIN:VEVENT
UID:17@der-ent-wickler.com
DTSTART;TZID=Europe/Berlin:20251006T190000
DTEND;TZID=Europe/Berlin:20251006T210000
DTSTAMP:20250506T084053Z
URL:https://der-ent-wickler.com/events/burnoutpraevention-entspannter-lebe
 n-virtuelles-seminar/
SUMMARY:Burnoutprävention – entspannter leben - Virtuelles Seminar
DESCRIPTION:Burnoutprävention – entspannter leben - Ruhe im Moment\, gen
 ieße den Augenblick - Virtuelles Seminar
ATTACH;FMTTYPE=image/jpeg:https://der-ent-wickler.com/wp-content/uploads/2
 025/03/young-woman-2194038_640.jpg
END:VEVENT
BEGIN:VTIMEZONE
TZID:Europe/Berlin
X-LIC-LOCATION:Europe/Berlin
BEGIN:DAYLIGHT
DTSTART:20250330T030000
TZOFFSETFROM:+0100
TZOFFSETTO:+0200
TZNAME:CEST
END:DAYLIGHT
END:VTIMEZONE
END:VCALENDAR