BEGIN:VCALENDAR
VERSION:2.0
PRODID:-//wp-events-plugin.com//7.2.3.1//EN
TZID:Europe/Berlin
X-WR-TIMEZONE:Europe/Berlin
BEGIN:VEVENT
UID:30@der-ent-wickler.com
DTSTART;TZID=Europe/Berlin:20251115T090000
DTEND;TZID=Europe/Berlin:20251116T180000
DTSTAMP:20250506T084409Z
URL:https://der-ent-wickler.com/events/burnoutpraevention-entspannter-lebe
 n-intensivseminar/
SUMMARY:Burnoutprävention – entspannter leben - Intensivseminar
DESCRIPTION:Burnoutprävention – entspannter leben - Intensivseminar - Ru
 he im Moment\, genieße den Augenblick
ATTACH;FMTTYPE=image/jpeg:https://der-ent-wickler.com/wp-content/uploads/2
 025/03/young-woman-2194038_640.jpg
CATEGORIES:Wochenendseminar
LOCATION:Restaurant Platzhirsch\, Feursstraße 89\, Olching\, Bayern\, 8214
 0 \, Deutschland
X-APPLE-STRUCTURED-LOCATION;VALUE=URI;X-ADDRESS=Feursstraße 89\, Olching\,
  Bayern\, 82140 \, Deutschland;X-APPLE-RADIUS=100;X-TITLE=Restaurant Platz
 hirsch:geo:0,0
END:VEVENT
BEGIN:VTIMEZONE
TZID:Europe/Berlin
X-LIC-LOCATION:Europe/Berlin
BEGIN:STANDARD
DTSTART:20251026T020000
TZOFFSETFROM:+0200
TZOFFSETTO:+0100
TZNAME:CET
END:STANDARD
END:VTIMEZONE
END:VCALENDAR